BEGIN:VCALENDAR
VERSION:2.0
PRODID:-//WineCollect.eu - ECPv5.16.4//NONSGML v1.0//EN
CALSCALE:GREGORIAN
METHOD:PUBLISH
X-ORIGINAL-URL:https://www.winecollect.eu
X-WR-CALDESC:Events for WineCollect.eu
REFRESH-INTERVAL;VALUE=DURATION:PT1H
X-Robots-Tag:noindex
X-PUBLISHED-TTL:PT1H
BEGIN:VTIMEZONE
TZID:Europe/Berlin
BEGIN:DAYLIGHT
TZOFFSETFROM:+0100
TZOFFSETTO:+0200
TZNAME:CEST
DTSTART:20100328T010000
END:DAYLIGHT
BEGIN:STANDARD
TZOFFSETFROM:+0200
TZOFFSETTO:+0100
TZNAME:CET
DTSTART:20101031T010000
END:STANDARD
BEGIN:DAYLIGHT
TZOFFSETFROM:+0100
TZOFFSETTO:+0200
TZNAME:CEST
DTSTART:20110327T010000
END:DAYLIGHT
BEGIN:STANDARD
TZOFFSETFROM:+0200
TZOFFSETTO:+0100
TZNAME:CET
DTSTART:20111030T010000
END:STANDARD
BEGIN:DAYLIGHT
TZOFFSETFROM:+0100
TZOFFSETTO:+0200
TZNAME:CEST
DTSTART:20120325T010000
END:DAYLIGHT
BEGIN:STANDARD
TZOFFSETFROM:+0200
TZOFFSETTO:+0100
TZNAME:CET
DTSTART:20121028T010000
END:STANDARD
BEGIN:DAYLIGHT
TZOFFSETFROM:+0100
TZOFFSETTO:+0200
TZNAME:CEST
DTSTART:20130331T010000
END:DAYLIGHT
BEGIN:STANDARD
TZOFFSETFROM:+0200
TZOFFSETTO:+0100
TZNAME:CET
DTSTART:20131027T010000
END:STANDARD
BEGIN:DAYLIGHT
TZOFFSETFROM:+0100
TZOFFSETTO:+0200
TZNAME:CEST
DTSTART:20140330T010000
END:DAYLIGHT
BEGIN:STANDARD
TZOFFSETFROM:+0200
TZOFFSETTO:+0100
TZNAME:CET
DTSTART:20141026T010000
END:STANDARD
BEGIN:DAYLIGHT
TZOFFSETFROM:+0100
TZOFFSETTO:+0200
TZNAME:CEST
DTSTART:20150329T010000
END:DAYLIGHT
BEGIN:STANDARD
TZOFFSETFROM:+0200
TZOFFSETTO:+0100
TZNAME:CET
DTSTART:20151025T010000
END:STANDARD
BEGIN:DAYLIGHT
TZOFFSETFROM:+0100
TZOFFSETTO:+0200
TZNAME:CEST
DTSTART:20160327T010000
END:DAYLIGHT
BEGIN:STANDARD
TZOFFSETFROM:+0200
TZOFFSETTO:+0100
TZNAME:CET
DTSTART:20161030T010000
END:STANDARD
BEGIN:DAYLIGHT
TZOFFSETFROM:+0100
TZOFFSETTO:+0200
TZNAME:CEST
DTSTART:20170326T010000
END:DAYLIGHT
BEGIN:STANDARD
TZOFFSETFROM:+0200
TZOFFSETTO:+0100
TZNAME:CET
DTSTART:20171029T010000
END:STANDARD
BEGIN:DAYLIGHT
TZOFFSETFROM:+0100
TZOFFSETTO:+0200
TZNAME:CEST
DTSTART:20180325T010000
END:DAYLIGHT
BEGIN:STANDARD
TZOFFSETFROM:+0200
TZOFFSETTO:+0100
TZNAME:CET
DTSTART:20181028T010000
END:STANDARD
BEGIN:DAYLIGHT
TZOFFSETFROM:+0100
TZOFFSETTO:+0200
TZNAME:CEST
DTSTART:20190331T010000
END:DAYLIGHT
BEGIN:STANDARD
TZOFFSETFROM:+0200
TZOFFSETTO:+0100
TZNAME:CET
DTSTART:20191027T010000
END:STANDARD
BEGIN:DAYLIGHT
TZOFFSETFROM:+0100
TZOFFSETTO:+0200
TZNAME:CEST
DTSTART:20200329T010000
END:DAYLIGHT
BEGIN:STANDARD
TZOFFSETFROM:+0200
TZOFFSETTO:+0100
TZNAME:CET
DTSTART:20201025T010000
END:STANDARD
BEGIN:DAYLIGHT
TZOFFSETFROM:+0100
TZOFFSETTO:+0200
TZNAME:CEST
DTSTART:20210328T010000
END:DAYLIGHT
BEGIN:STANDARD
TZOFFSETFROM:+0200
TZOFFSETTO:+0100
TZNAME:CET
DTSTART:20211031T010000
END:STANDARD
BEGIN:DAYLIGHT
TZOFFSETFROM:+0100
TZOFFSETTO:+0200
TZNAME:CEST
DTSTART:20220327T010000
END:DAYLIGHT
BEGIN:STANDARD
TZOFFSETFROM:+0200
TZOFFSETTO:+0100
TZNAME:CET
DTSTART:20221030T010000
END:STANDARD
END:VTIMEZONE
BEGIN:VEVENT
DTSTART;TZID=Europe/Berlin:20221118T190000
DTEND;TZID=Europe/Berlin:20221118T220000
DTSTAMP:20260422T170018
CREATED:20220717T101329Z
LAST-MODIFIED:20220717T101329Z
UID:463-1668798000-1668808800@www.winecollect.eu
SUMMARY:Best of Kollwentz
DESCRIPTION:Raritäten-Blindverkostung Weingut Kollwentz\, inkl. aller PRIVAT (20 Weine + Buffet)
URL:https://www.winecollect.eu/event/best-of-kollwentz/
LOCATION:Heuriger Waldherr\, Hauptstraße 146/148\, Neudörfl\, 7201\, Österreich
END:VEVENT
BEGIN:VEVENT
DTSTART;TZID=Europe/Berlin:20221028T190000
DTEND;TZID=Europe/Berlin:20221028T220000
DTSTAMP:20260422T170018
CREATED:20220717T101208Z
LAST-MODIFIED:20220717T101208Z
UID:461-1666983600-1666994400@www.winecollect.eu
SUMMARY:Best of Château Gazin
DESCRIPTION:Château Gazin\, Pomerol (15 Jahrgänge + 3-Gang-Menü)
URL:https://www.winecollect.eu/event/best-of-chateau-gazin/
LOCATION:Restaurant Dorfmeister\, Hauptstraße 8\,\, Weikersdorf am Steinfelde\, 2722\, Österreich
END:VEVENT
BEGIN:VEVENT
DTSTART;TZID=Europe/Berlin:20220926T193000
DTEND;TZID=Europe/Berlin:20220926T223000
DTSTAMP:20260422T170018
CREATED:20220717T100801Z
LAST-MODIFIED:20220717T101349Z
UID:457-1664220600-1664231400@www.winecollect.eu
SUMMARY:Bordeaux 2019 Arrivage-Probe
DESCRIPTION:Bordeaux 2019 Arrivage-Verkostung (15 Weine + Snack)
URL:https://www.winecollect.eu/event/bordeaux-2019-arrivage-probe/
LOCATION:Hergets MAGNUM Vinothek\, Trostgasse 4\, Wiener Neustadt\, 2700\, Österreich
END:VEVENT
BEGIN:VEVENT
DTSTART;TZID=Europe/Berlin:20211008T190000
DTEND;TZID=Europe/Berlin:20211008T220000
DTSTAMP:20260422T170018
CREATED:20210906T105935Z
LAST-MODIFIED:20210915T130554Z
UID:350-1633719600-1633730400@www.winecollect.eu
SUMMARY:Verkostung Österreich 2011+2012
DESCRIPTION:Liebe Weinfreunde! \nWir freuen uns\, Euch zum Herbst-Winecercle 2021 einzuladen!\nBitte die gesetzlichen Hygienebestimmungen beachten!\n(Getestet oder geimpft oder genesen lt. geltender Verordnung). \nOrt:Hotel Krallerhof in 5771 Leogang\nPreis der Verkostung: Euro 60\,- \nThema: Österreich Top Jahrgänge 2011 + 2012 \nAnmeldungen jederzeit möglich: herbert@weinseminare-lengauer.at oder unter +43676 5041446\nListe der Weine:
URL:https://www.winecollect.eu/event/verkostung-oesterreich-20112012/
END:VEVENT
BEGIN:VEVENT
DTSTART;TZID=Europe/Berlin:20211008T190000
DTEND;TZID=Europe/Berlin:20211008T190000
DTSTAMP:20260422T170018
CREATED:20210908T075830Z
LAST-MODIFIED:20210908T145459Z
UID:356-1633719600-1633719600@www.winecollect.eu
SUMMARY:Gruaud Larose - die besten Jahrgänge
DESCRIPTION:Veranstaltung von Michael Herget\nHergets Magnum Vinothek
URL:https://www.winecollect.eu/event/gruaud-larose/
LOCATION:Heuriger & Weingut Waldherr\, Hauptstrasse 146\, Neudörfl\, Burgenland\, 7201\, Österreich
ORGANIZER;CN="Michael%20Herget":MAILTO:info@magnumweine.at
END:VEVENT
BEGIN:VEVENT
DTSTART;TZID=Europe/Berlin:20130420T170000
DTEND;TZID=Europe/Berlin:20130420T200000
DTSTAMP:20260422T170018
CREATED:20210906T105850Z
LAST-MODIFIED:20210906T105850Z
UID:349-1366477200-1366488000@www.winecollect.eu
SUMMARY:Degustation "Bordeaux 1983 - 30 Jahre danach"
DESCRIPTION:High-End Degustation mit Rene Gabriel. \nDie Verkostungsergebnisse aus Rene Gabriels BX Total
URL:https://www.winecollect.eu/event/degustation-bordeaux-1983-30-jahre-danach/
END:VEVENT
BEGIN:VEVENT
DTSTART;TZID=Europe/Berlin:20121005T170000
DTEND;TZID=Europe/Berlin:20121005T200000
DTSTAMP:20260422T170018
CREATED:20210906T105826Z
LAST-MODIFIED:20210906T105826Z
UID:344-1349456400-1349467200@www.winecollect.eu
SUMMARY:Degustation "Diversität der Rebsorten"
DESCRIPTION:Spitzenweine der Welt im Rebsorten-Vergleich. Ein variantenreicher Weinabend für Hedonisten.\nKommentiert wurde diese Verkostung von Willi Balanjuk (einer der führenden Weinexperten in Österreich). \nMehr…
URL:https://www.winecollect.eu/event/degustation-diversitaet-der-rebsorten/
END:VEVENT
BEGIN:VEVENT
DTSTART;TZID=Europe/Berlin:20120414T170000
DTEND;TZID=Europe/Berlin:20120414T200000
DTSTAMP:20260422T170018
CREATED:20210906T105745Z
LAST-MODIFIED:20210906T105745Z
UID:343-1334422800-1334433600@www.winecollect.eu
SUMMARY:High End Degustation mit René Gabriel im 5 Sterne Salzburgerhof/Zell am See
DESCRIPTION:2000 Parker Punkte an einem Abend. Wie Rene Gabriel diese Weine sieht und bewertet ist spannend. Hat er doch den europäischen Gaumen. Naja\, sagen wir korrekterweise „Schweizer Gaumen“ \nAUF BX-TOTAl ZWANZIG MAL 100 PARKER-PUNKTE: BOMBEN\, BOLIDEN UND BULLDOZER (© Rene Gabriel) \n20×100 Parker Punkte\nKompletter Artikel im PDF Format: \n20x100PP-Rene Gabriel
URL:https://www.winecollect.eu/event/high-end-degustation-mit-rene-gabriel-im-5-sterne-salzburgerhof-zell-am-see/
END:VEVENT
BEGIN:VEVENT
DTSTART;TZID=Europe/Berlin:20111028T170000
DTEND;TZID=Europe/Berlin:20111028T200000
DTSTAMP:20260422T170018
CREATED:20210906T105658Z
LAST-MODIFIED:20210906T105658Z
UID:342-1319821200-1319832000@www.winecollect.eu
SUMMARY:Peter Moser präsentierte "20 Jahrgänge Penfolds Grange"
DESCRIPTION:20 Jahrgänge des Kult-Shiraz Penfolds Grange mit dem legendären 1976-er wurden am Freitag\, 28. Oktober 2011 im Hotel Krallerhof (Leogang/Salzburg) degustiert. \nPenfolds Grange aus den 70er & 80ern
URL:https://www.winecollect.eu/event/peter-moser-praesentierte-20-jahrgaenge-penfolds-grange/
END:VEVENT
BEGIN:VEVENT
DTSTART;TZID=Europe/Berlin:20110416T170000
DTEND;TZID=Europe/Berlin:20110416T200000
DTSTAMP:20260422T170018
CREATED:20210906T105635Z
LAST-MODIFIED:20210906T105635Z
UID:341-1302973200-1302984000@www.winecollect.eu
SUMMARY:Rene Gabriel begeistert Teilnehmer mit seiner Sicht zu Bordeaux 1996
DESCRIPTION:«BORDEAUX 1996 – 15 YEARS AFTER» René Gabriel präsentierte die schönsten und besten Bordeaux vom grossen\, versprechenden Jahrgang 1996\, Ausone\, Haut-Brion\, Lafite Rothschild\, Latour\, Mouton Rothschild\, Pichon-Comtesse-de-Lalande\, Pichon Baron etc. Hier das Ergebnis!
URL:https://www.winecollect.eu/event/rene-gabriel-begeistert-teilnehmer-mit-seiner-sicht-zu-bordeaux-1996/
END:VEVENT
BEGIN:VEVENT
DTSTART;TZID=Europe/Berlin:20110401T170000
DTEND;TZID=Europe/Berlin:20110401T200000
DTSTAMP:20260422T170018
CREATED:20210906T105601Z
LAST-MODIFIED:20210906T105601Z
UID:339-1301677200-1301688000@www.winecollect.eu
SUMMARY:Bruck/Glockner - "Globetrotter"
DESCRIPTION:„Globetrotter“ – eine Weltreise zu den Topregionen der Weinwelt. Geschlossene Veranstaltung. Topweine aus den Regionen Toskana\, Piemont\, Neue Welt\, Spanien\, Burgund und natürlich Bordeaux. Zum Verkostungsergebnis ….
URL:https://www.winecollect.eu/event/bruck-glockner-globetrotter/
END:VEVENT
BEGIN:VEVENT
DTSTART;TZID=Europe/Berlin:20101205T170000
DTEND;TZID=Europe/Berlin:20101205T200000
DTSTAMP:20260422T170018
CREATED:20210906T104352Z
LAST-MODIFIED:20210906T104352Z
UID:335-1291568400-1291579200@www.winecollect.eu
SUMMARY:Hotel Krallerhof (A) - "Bordeaux 2000 - Ten Years After"
DESCRIPTION:High-End Verkostung mit Weinakademiker Herbert Lengauer. Der gehypte Jahrgang 2000 ist in Bordeaux auch heute noch der meistgefragte und investmenttaugliche Jahrgang. Die Verkostung zeigte warum! Details… \n \n \n© WineCollect (v.l.: Herbert Lengauer\, Siegfried Brudermann\, Werner Feldner\, Gerhard Altenberger)
URL:https://www.winecollect.eu/event/hotel-krallerhof-a-bordeaux-2000-ten-years-after/
END:VEVENT
BEGIN:VEVENT
DTSTART;TZID=Europe/Berlin:20101028T170000
DTEND;TZID=Europe/Berlin:20101028T200000
DTSTAMP:20260422T170018
CREATED:20210906T104453Z
LAST-MODIFIED:20210906T105456Z
UID:337-1288285200-1288296000@www.winecollect.eu
SUMMARY:Hotel Krallerhof (A) - "21 Jahrgänge Masseto"
DESCRIPTION:Degustation des Kultweins „Masseto“ der Tenuta dell´ Ornellaia. 21 Jahrgänge des „Petrus von Italien“ machten den Teilnehmern mehr als nur Freude. Der 2001er bestätigte die Parker- (98/100) und WineSpectator (100/100) Bewertungen. \n \n© WineCollect (v.l.: Axel Heinz\, Werner Feldner\, Peter Moser)
URL:https://www.winecollect.eu/event/hotel-krallerhof-a-21-jahrgaenge-masseto/
END:VEVENT
END:VCALENDAR